BEGIN:VCALENDAR
VERSION:2.0
PRODID:Linklings LLC
BEGIN:VTIMEZONE
TZID:America/Chicago
X-LIC-LOCATION:America/Chicago
BEGIN:DAYLIGHT
TZOFFSETFROM:-0600
TZOFFSETTO:-0500
TZNAME:CDT
DTSTART:19700308T020000
RRULE:FREQ=YEARLY;BYMONTH=3;BYDAY=2SU
END:DAYLIGHT
BEGIN:STANDARD
TZOFFSETFROM:-0500
TZOFFSETTO:-0600
TZNAME:CST
DTSTART:19701101T020000
RRULE:FREQ=YEARLY;BYMONTH=11;BYDAY=1SU
END:STANDARD
END:VTIMEZONE
BEGIN:VEVENT
DTSTAMP:20181221T160902Z
LOCATION:D173
DTSTART;TZID=America/Chicago:20181114T103000
DTEND;TZID=America/Chicago:20181114T120000
UID:submissions.supercomputing.org_SC18_sess487@linklings.com
SUMMARY:HPC System Architectures
DESCRIPTION:Exhibitor Forum\n\n\nOpenCAPI: High Performance, Host-Agnostic
 , Coherent Accelerator Architecture and Ecosystem\n\nAllison\n\nThe Open C
 oherent Accelerator Processor Interface (OpenCAPI) is an industry standard
  architecture targeted for emerging accelerator solutions and workloads. O
 penCAPI enables the development of host-agnostic devices which can coheren
 tly connect to any CPU which supports the OpenCAPI standard, providi...\n\
 n---------------------\nHigh Performance OpenMP for GPUs\n\nWolfe\n\nOpenM
 P has a 20 year history in HPC. It was the parallel programming model of c
 hoice for large SMP servers, and later proved effective for hybrid MPI+Ope
 nMP programming on scalable systems.  As core counts rose, best practices 
 for OpenMP implementations and programming have evolved. The early focus .
 ..\n\n---------------------\nBringing Innovation to the HPC Market with Ma
 rvell’s ThunderX2 Processors\n\nWikelius\n\nMarvell has established a clea
 r leadership position in bringing Arm® -based compute solutions to the Hig
 h Performance Computing and data center market. This year at SC18, Marvell
  will provide exciting updates on our product strategy and in particular w
 e will provide more details on our ThunderX2 pro...\n
END:VEVENT
END:VCALENDAR

