BEGIN:VCALENDAR
VERSION:2.0
PRODID:Linklings LLC
BEGIN:VTIMEZONE
TZID:America/Chicago
X-LIC-LOCATION:America/Chicago
BEGIN:DAYLIGHT
TZOFFSETFROM:-0600
TZOFFSETTO:-0500
TZNAME:CDT
DTSTART:19700308T020000
RRULE:FREQ=YEARLY;BYMONTH=3;BYDAY=2SU
END:DAYLIGHT
BEGIN:STANDARD
TZOFFSETFROM:-0500
TZOFFSETTO:-0600
TZNAME:CST
DTSTART:19701101T020000
RRULE:FREQ=YEARLY;BYMONTH=11;BYDAY=1SU
END:STANDARD
END:VTIMEZONE
BEGIN:VEVENT
DTSTAMP:20181221T160730Z
LOCATION:D173
DTSTART;TZID=America/Chicago:20181114T110000
DTEND;TZID=America/Chicago:20181114T113000
UID:submissions.supercomputing.org_SC18_sess487_exforum127@linklings.com
SUMMARY:OpenCAPI: High Performance, Host-Agnostic, Coherent Accelerator Ar
 chitecture and Ecosystem
DESCRIPTION:Exhibitor Forum\nAccelerators, Architectures, GPUs\n\nOpenCAPI
 : High Performance, Host-Agnostic, Coherent Accelerator Architecture and E
 cosystem\n\nAllison\n\nThe Open Coherent Accelerator Processor Interface (
 OpenCAPI) is an industry standard architecture targeted for emerging accel
 erator solutions and workloads. OpenCAPI enables the development of host-a
 gnostic devices which can coherently connect to any CPU which supports the
  OpenCAPI standard, providing the device with the capability to coherently
  cache host memory to facilitate faster accelerator execution. OpenCAPI ut
 ilizes high-frequency differential signaling technology while providing hi
 gh bandwidth in addition to low latency needed by advanced accelerators. O
 penCAPI encapsulates the serializing cache access and address translation 
 constructs in high speed host silicon technology to minimize SW path lengt
 h and design complexity in attached acceleration silicon such as FPGAs and
  foundry ASICs. OpenCAPI architecturally ties together Transaction Layer, 
 Data Link Layer, and Physical Layer attributes to enable high bandwidth, h
 ighly parallel exploitation of attached silicon. Finally, this session wil
 l also cover all the OpenCAPI enabled servers as well as the ecosystem tha
 t surrounds OpenCAPI.
URL:https://sc18.supercomputing.org/presentation/?id=exforum127&sess=sess4
 87
END:VEVENT
END:VCALENDAR

