BEGIN:VCALENDAR
VERSION:2.0
PRODID:Linklings LLC
BEGIN:VTIMEZONE
TZID:America/Chicago
X-LIC-LOCATION:America/Chicago
BEGIN:DAYLIGHT
TZOFFSETFROM:-0600
TZOFFSETTO:-0500
TZNAME:CDT
DTSTART:19700308T020000
RRULE:FREQ=YEARLY;BYMONTH=3;BYDAY=2SU
END:DAYLIGHT
BEGIN:STANDARD
TZOFFSETFROM:-0500
TZOFFSETTO:-0600
TZNAME:CST
DTSTART:19701101T020000
RRULE:FREQ=YEARLY;BYMONTH=11;BYDAY=1SU
END:STANDARD
END:VTIMEZONE
BEGIN:VEVENT
DTSTAMP:20181221T160902Z
LOCATION:D171
DTSTART;TZID=America/Chicago:20181115T153000
DTEND;TZID=America/Chicago:20181115T161500
UID:submissions.supercomputing.org_SC18_sess484_pec295@linklings.com
SUMMARY:HPC Drives GM
DESCRIPTION:HPC Impact Showcase\nWorkshop Reg Pass, Tutorial Reg Pass, Tec
 h Program Reg Pass, Exhibits Reg Pass, Exhibits - Exhibit Hall Only Reg Pa
 ss, Industry\n\nHPC Drives GM\n\nDeshpande\n\nOver the past decade, Comput
 er Aided Engineering (CAE) has increased its role in vehicle development. 
 CAE is not just a set of tools to provide physical understanding; CAE-base
 d designs and optimizations continue to provide integral input into produc
 t development. Accurate modelling and characteristics in CAE is a key step
  to establish robust math-based simulations for design and development. Fo
 r example, in internal combustion engines, the mixture preparation process
  is highly coupled with combustion performance and emissions behavior. The
  presentation will outline how HPC is enabling engineers and researchers f
 or experimental and modelling work, undertaken at General Motors to suppor
 t the corporate Road-to-Lab-to-Math (RLM) strategy.
URL:https://sc18.supercomputing.org/presentation/?id=pec295&sess=sess484
END:VEVENT
END:VCALENDAR

