BEGIN:VCALENDAR
VERSION:2.0
PRODID:Linklings LLC
BEGIN:VTIMEZONE
TZID:America/Chicago
X-LIC-LOCATION:America/Chicago
BEGIN:DAYLIGHT
TZOFFSETFROM:-0600
TZOFFSETTO:-0500
TZNAME:CDT
DTSTART:19700308T020000
RRULE:FREQ=YEARLY;BYMONTH=3;BYDAY=2SU
END:DAYLIGHT
BEGIN:STANDARD
TZOFFSETFROM:-0500
TZOFFSETTO:-0600
TZNAME:CST
DTSTART:19701101T020000
RRULE:FREQ=YEARLY;BYMONTH=11;BYDAY=1SU
END:STANDARD
END:VTIMEZONE
BEGIN:VEVENT
DTSTAMP:20181221T160731Z
LOCATION:D167
DTSTART;TZID=America/Chicago:20181116T092000
DTEND;TZID=America/Chicago:20181116T094000
UID:submissions.supercomputing.org_SC18_sess476_ws_dls103@linklings.com
SUMMARY:CANDLE Framework for Large Scale Deep Learning
DESCRIPTION:Workshop\nApplications, Deep Learning, Machine Learning, Works
 hop Reg Pass\n\nCANDLE Framework for Large Scale Deep Learning\n\nBrettin
URL:https://sc18.supercomputing.org/presentation/?id=ws_dls103&sess=sess47
 6
END:VEVENT
END:VCALENDAR

