BEGIN:VCALENDAR
VERSION:2.0
PRODID:Linklings LLC
BEGIN:VTIMEZONE
TZID:America/Chicago
X-LIC-LOCATION:America/Chicago
BEGIN:DAYLIGHT
TZOFFSETFROM:-0600
TZOFFSETTO:-0500
TZNAME:CDT
DTSTART:19700308T020000
RRULE:FREQ=YEARLY;BYMONTH=3;BYDAY=2SU
END:DAYLIGHT
BEGIN:STANDARD
TZOFFSETFROM:-0500
TZOFFSETTO:-0600
TZNAME:CST
DTSTART:19701101T020000
RRULE:FREQ=YEARLY;BYMONTH=11;BYDAY=1SU
END:STANDARD
END:VTIMEZONE
BEGIN:VEVENT
DTSTAMP:20181221T160731Z
LOCATION:D167
DTSTART;TZID=America/Chicago:20181116T083000
DTEND;TZID=America/Chicago:20181116T083500
UID:submissions.supercomputing.org_SC18_sess476_wksp117@linklings.com
SUMMARY:Introduction - Deep Learning on Supercomputers - Welcome
DESCRIPTION:Workshop\nApplications, Deep Learning, Machine Learning, Works
 hop Reg Pass\n\nIntroduction - Deep Learning on Supercomputers - Welcome\n
 \nZhang, Foster\n\nThe 1st Deep Learning (DL) on Supercomputers workshop p
 rovides a forum for practitioners working on any and all aspects of DL in 
 the supercomputing context to present their latest research results and de
 velopment, deployment, and application experiences. The workshop’s theme i
 s the intersection of DL and supercomputing: novel uses of supercomputers 
 to accelerate deep learning training and inference, and innovative applica
 tions of deep learning in traditional numerical simulation. Its scope enco
 mpasses application development in industrial and scientific scenarios usi
 ng supercomputers; DL methods applied to numerical simulation; fundamental
  algorithms, enhanced procedures, and software development methods to enab
 le scalable training and inference; hardware changes with impact on future
  supercomputer design; and machine deployment, performance evaluation, and
  reproducibility practices for DL applications on supercomputers. This wor
 kshop presents a series of invited talks from researchers who are working 
 on the crossroads of deep learning and supercomputing.
URL:https://sc18.supercomputing.org/presentation/?id=wksp117&sess=sess476
END:VEVENT
END:VCALENDAR

