BEGIN:VCALENDAR
VERSION:2.0
PRODID:Linklings LLC
BEGIN:VTIMEZONE
TZID:America/Chicago
X-LIC-LOCATION:America/Chicago
BEGIN:DAYLIGHT
TZOFFSETFROM:-0600
TZOFFSETTO:-0500
TZNAME:CDT
DTSTART:19700308T020000
RRULE:FREQ=YEARLY;BYMONTH=3;BYDAY=2SU
END:DAYLIGHT
BEGIN:STANDARD
TZOFFSETFROM:-0500
TZOFFSETTO:-0600
TZNAME:CST
DTSTART:19701101T020000
RRULE:FREQ=YEARLY;BYMONTH=11;BYDAY=1SU
END:STANDARD
END:VTIMEZONE
BEGIN:VEVENT
DTSTAMP:20181221T160908Z
LOCATION:D220
DTSTART;TZID=America/Chicago:20181114T121500
DTEND;TZID=America/Chicago:20181114T131500
UID:submissions.supercomputing.org_SC18_sess449_bof214@linklings.com
SUMMARY:Charm++ and AMPI: Adaptive and Asynchronous Parallel Programming
DESCRIPTION:Birds of a Feather\nProgramming Systems, Tech Program Reg Pass
 , Exhibits Reg Pass, Exhibits - Exhibit Hall Only Reg Pass\n\nCharm++ and 
 AMPI: Adaptive and Asynchronous Parallel Programming\n\nWhite, Kalé, Bohm\
 n\nA community gathering about parallel programming using Charm++, Adaptiv
 e MPI, the many applications built on them, and associated tools. This ses
 sion will cover recent advances in Charm++ and the experiences of applicat
 ion developers with Charm++. There will also be a discussion on the future
  directions of Charm++/AMPI and opportunities to learn more and form colla
 borations.\n\nCharm++ is a production-grade many-tasking programming frame
 work and runtime system for modern HPC systems. It offers high productivit
 y and performance portability through features such as multicore and accel
 erator support, dynamic load balancing, fault tolerance, latency hiding, i
 nteroperability with MPI and OpenMP, and online job-resizing.
URL:https://sc18.supercomputing.org/presentation/?id=bof214&sess=sess449
END:VEVENT
END:VCALENDAR

