BEGIN:VCALENDAR
VERSION:2.0
PRODID:Linklings LLC
BEGIN:VTIMEZONE
TZID:America/Chicago
X-LIC-LOCATION:America/Chicago
BEGIN:DAYLIGHT
TZOFFSETFROM:-0600
TZOFFSETTO:-0500
TZNAME:CDT
DTSTART:19700308T020000
RRULE:FREQ=YEARLY;BYMONTH=3;BYDAY=2SU
END:DAYLIGHT
BEGIN:STANDARD
TZOFFSETFROM:-0500
TZOFFSETTO:-0600
TZNAME:CST
DTSTART:19701101T020000
RRULE:FREQ=YEARLY;BYMONTH=11;BYDAY=1SU
END:STANDARD
END:VTIMEZONE
BEGIN:VEVENT
DTSTAMP:20181221T160908Z
LOCATION:D220
DTSTART;TZID=America/Chicago:20181113T121500
DTEND;TZID=America/Chicago:20181113T131500
UID:submissions.supercomputing.org_SC18_sess441_bof189@linklings.com
SUMMARY:Best Practices for Scaling-Up and Sustaining HPC Education, Outrea
 ch and Training
DESCRIPTION:Birds of a Feather\nEducation, Tech Program Reg Pass, Exhibits
  Reg Pass, Exhibits - Exhibit Hall Only Reg Pass\n\nBest Practices for Sca
 ling-Up and Sustaining HPC Education, Outreach and Training\n\nSukhija, Mu
 ite, Lathrop, Cytowski, Curry...\n\nThe HPC community is delivering HPC ed
 ucational content and training to address workforce preparation at all lev
 els - from undergraduate students to career professionals. Flexible and sc
 alable pedagogical and andragogical approaches are needed to address the b
 road workforce needs from the basics of computational thinking to extreme 
 scale performance. Through brief presentations followed by open discussion
 s, this ACM SIGHPC Education Chapter coordinated BOF will engage the audie
 nce in discussions of the challenges and solutions for scaling-up and sust
 aining successful HPC teaching and learning.   The activities include form
 al courses, MOOCs, extracurricular activities, webcast training, and Carpe
 ntries models of teaching and learning.
URL:https://sc18.supercomputing.org/presentation/?id=bof189&sess=sess441
END:VEVENT
END:VCALENDAR

