BEGIN:VCALENDAR
VERSION:2.0
PRODID:Linklings LLC
BEGIN:VTIMEZONE
TZID:America/Chicago
X-LIC-LOCATION:America/Chicago
BEGIN:DAYLIGHT
TZOFFSETFROM:-0600
TZOFFSETTO:-0500
TZNAME:CDT
DTSTART:19700308T020000
RRULE:FREQ=YEARLY;BYMONTH=3;BYDAY=2SU
END:DAYLIGHT
BEGIN:STANDARD
TZOFFSETFROM:-0500
TZOFFSETTO:-0600
TZNAME:CST
DTSTART:19701101T020000
RRULE:FREQ=YEARLY;BYMONTH=11;BYDAY=1SU
END:STANDARD
END:VTIMEZONE
BEGIN:VEVENT
DTSTAMP:20181221T160908Z
LOCATION:D175
DTSTART;TZID=America/Chicago:20181113T121500
DTEND;TZID=America/Chicago:20181113T131500
UID:submissions.supercomputing.org_SC18_sess440_bof191@linklings.com
SUMMARY:17th Graph500 List
DESCRIPTION:Birds of a Feather\nPerformance, Tools, Tech Program Reg Pass,
  Exhibits Reg Pass, Exhibits - Exhibit Hall Only Reg Pass\n\n17th Graph500
  List\n\nMurphy, Bader, Kogge, Lumsdaine, Korzh\n\nData intensive supercom
 puter applications are increasingly important workloads, especially for “B
 ig Data” problems, but are ill suited for most of today’s computing platfo
 rms (at any scale!). The Graph500 list has grown to over 239 entries and h
 as demonstrated the challenges of even simple analytics. The new SSSP kern
 el introduced at SC17 has increased the benchmark’s overall difficulty.  T
 his BOF will unveil the Graph500 lists, discuss the new streaming kernel, 
 and enhance the new energy metrics the Green Graph500. It will offer a for
 um for community and provide a rallying point for data intensive supercomp
 uting problems.
URL:https://sc18.supercomputing.org/presentation/?id=bof191&sess=sess440
END:VEVENT
END:VCALENDAR

