BEGIN:VCALENDAR
VERSION:2.0
PRODID:Linklings LLC
BEGIN:VTIMEZONE
TZID:America/Chicago
X-LIC-LOCATION:America/Chicago
BEGIN:DAYLIGHT
TZOFFSETFROM:-0600
TZOFFSETTO:-0500
TZNAME:CDT
DTSTART:19700308T020000
RRULE:FREQ=YEARLY;BYMONTH=3;BYDAY=2SU
END:DAYLIGHT
BEGIN:STANDARD
TZOFFSETFROM:-0500
TZOFFSETTO:-0600
TZNAME:CST
DTSTART:19701101T020000
RRULE:FREQ=YEARLY;BYMONTH=11;BYDAY=1SU
END:STANDARD
END:VTIMEZONE
BEGIN:VEVENT
DTSTAMP:20181221T160911Z
LOCATION:D171
DTSTART;TZID=America/Chicago:20181113T171500
DTEND;TZID=America/Chicago:20181113T184500
UID:submissions.supercomputing.org_SC18_sess434_bof182@linklings.com
SUMMARY:OpenACC API User Experience, Vendor Reaction, Relevance, and Roadm
 ap
DESCRIPTION:Birds of a Feather\nProgramming Systems, Tech Program Reg Pass
 , Exhibits Reg Pass, Exhibits - Exhibit Hall Only Reg Pass\n\nOpenACC API 
 User Experience, Vendor Reaction, Relevance, and Roadmap\n\nPoole, Chandra
 sekaran, Henschel\n\nOpenACC, a directive-based high-level parallel progra
 mming model, has gained rapid momentum among scientific application users 
 - the key drivers of the specification. The user-friendly programming mode
 l has facilitated acceleration of over 130 applications including CAM, ANS
 YS Fluent, Gaussian, VASP, Synopsys on multiple platforms and is also seen
  as an entry-level programming model for the top supercomputers (Top500 li
 st) such as Summit, Sunway Taihulight, and Piz Daint. As in previous years
 , this BoF invites scientists, programmers, and researchers to discuss the
 ir experiences in adopting OpenACC for scientific applications, learn abou
 t the roadmaps from implementers and the latest developments in the specif
 ication.
URL:https://sc18.supercomputing.org/presentation/?id=bof182&sess=sess434
END:VEVENT
END:VCALENDAR

