BEGIN:VCALENDAR
VERSION:2.0
PRODID:Linklings LLC
BEGIN:VTIMEZONE
TZID:America/Chicago
X-LIC-LOCATION:America/Chicago
BEGIN:DAYLIGHT
TZOFFSETFROM:-0600
TZOFFSETTO:-0500
TZNAME:CDT
DTSTART:19700308T020000
RRULE:FREQ=YEARLY;BYMONTH=3;BYDAY=2SU
END:DAYLIGHT
BEGIN:STANDARD
TZOFFSETFROM:-0500
TZOFFSETTO:-0600
TZNAME:CST
DTSTART:19701101T020000
RRULE:FREQ=YEARLY;BYMONTH=11;BYDAY=1SU
END:STANDARD
END:VTIMEZONE
BEGIN:VEVENT
DTSTAMP:20181221T160906Z
LOCATION:C144
DTSTART;TZID=America/Chicago:20181114T121500
DTEND;TZID=America/Chicago:20181114T131500
UID:submissions.supercomputing.org_SC18_sess387_bof129@linklings.com
SUMMARY:A Look Ahead:  Energy and Power Aware Job Scheduling and Resource 
 Management
DESCRIPTION:Birds of a Feather\nSystem Software, Tech Program Reg Pass, Ex
 hibits Reg Pass, Exhibits - Exhibit Hall Only Reg Pass\n\nA Look Ahead:  E
 nergy and Power Aware Job Scheduling and Resource Management\n\nPedretti, 
 Ott, Pinning, Koenig, Maiterth...\n\nEnergy and power aware job scheduling
  and resource management (EPAJSRM) capabilities are implemented or planned
  for large-scale HPC systems in ~10 sites worldwide.  Some of the sites ar
 e interested in using these capabilities to allow an application to provid
 e hints and other relevant information to an EPAJSRM job scheduler.  Anoth
 er important capability is to notify applications of power management deci
 sions, such as changes in power usage targets and providing awareness of w
 hat is going on in the machine that might have made a job run slower.  Thi
 s BoF explores the these capabilities from the perspective of three differ
 ent sites.
URL:https://sc18.supercomputing.org/presentation/?id=bof129&sess=sess387
END:VEVENT
END:VCALENDAR

