BEGIN:VCALENDAR
VERSION:2.0
PRODID:Linklings LLC
BEGIN:VTIMEZONE
TZID:America/Chicago
X-LIC-LOCATION:America/Chicago
BEGIN:DAYLIGHT
TZOFFSETFROM:-0600
TZOFFSETTO:-0500
TZNAME:CDT
DTSTART:19700308T020000
RRULE:FREQ=YEARLY;BYMONTH=3;BYDAY=2SU
END:DAYLIGHT
BEGIN:STANDARD
TZOFFSETFROM:-0500
TZOFFSETTO:-0600
TZNAME:CST
DTSTART:19701101T020000
RRULE:FREQ=YEARLY;BYMONTH=11;BYDAY=1SU
END:STANDARD
END:VTIMEZONE
BEGIN:VEVENT
DTSTAMP:20181221T160908Z
LOCATION:D167
DTSTART;TZID=America/Chicago:20181113T121500
DTEND;TZID=America/Chicago:20181113T131500
UID:submissions.supercomputing.org_SC18_sess376_bof115@linklings.com
SUMMARY:HPCG Benchmark Update
DESCRIPTION:Birds of a Feather\nPerformance, Tools, Tech Program Reg Pass,
  Exhibits Reg Pass, Exhibits - Exhibit Hall Only Reg Pass\n\nHPCG Benchmar
 k Update\n\nHeroux, Dongarra, Luszczek\n\nThe High Performance Conjugate G
 radients (HPCG) Benchmark is a community metric for ranking high performan
 ce computing systems, officially part of the TOP500 and a companion to the
  LINPACK benchmark. \n\nIn this BOF we first present an update of HPCG pol
 icies and opportunities for optimizing performance and follow with present
 ations from vendors who have participated in HPCG optimization efforts, in
  particular efforts for ARM-based systems, Nvidia, Intel and IBM. We spend
  the remaining time in open discussion about the future of HPCG design and
  implementation strategies for further improvements.
URL:https://sc18.supercomputing.org/presentation/?id=bof115&sess=sess376
END:VEVENT
END:VCALENDAR

