BEGIN:VCALENDAR
VERSION:2.0
PRODID:Linklings LLC
BEGIN:VTIMEZONE
TZID:America/Chicago
X-LIC-LOCATION:America/Chicago
BEGIN:DAYLIGHT
TZOFFSETFROM:-0600
TZOFFSETTO:-0500
TZNAME:CDT
DTSTART:19700308T020000
RRULE:FREQ=YEARLY;BYMONTH=3;BYDAY=2SU
END:DAYLIGHT
BEGIN:STANDARD
TZOFFSETFROM:-0500
TZOFFSETTO:-0600
TZNAME:CST
DTSTART:19701101T020000
RRULE:FREQ=YEARLY;BYMONTH=11;BYDAY=1SU
END:STANDARD
END:VTIMEZONE
BEGIN:VEVENT
DTSTAMP:20181221T160909Z
LOCATION:D174
DTSTART;TZID=America/Chicago:20181113T171500
DTEND;TZID=America/Chicago:20181113T184500
UID:submissions.supercomputing.org_SC18_sess364_bof103@linklings.com
SUMMARY:Ceph Applications in HPC Environments
DESCRIPTION:Birds of a Feather\nData Analytics, Storage, Visualization, Te
 ch Program Reg Pass, Exhibits Reg Pass, Exhibits - Exhibit Hall Only Reg P
 ass\n\nCeph Applications in HPC Environments\n\nLynch, Fuller\n\nCeph is a
 n open­-source distributed object store with an associated file system wid
 ely used in cloud and distributed computing. In addition, both the object 
 store and file system components are seeing increasing deployments as prim
 ary data storage for traditional HPC. Ceph is backed by a robust, worldwid
 e open source community effort with broad participation from major HPC and
  storage vendors. This BOF session will bring together Ceph implementers t
 o share their deployment experiences, as well as provide feedback to the d
 eveloper community on needed features and enhancements specific to the HPC
  community.
URL:https://sc18.supercomputing.org/presentation/?id=bof103&sess=sess364
END:VEVENT
END:VCALENDAR

