BEGIN:VCALENDAR
VERSION:2.0
PRODID:Linklings LLC
BEGIN:VTIMEZONE
TZID:America/Chicago
X-LIC-LOCATION:America/Chicago
BEGIN:DAYLIGHT
TZOFFSETFROM:-0600
TZOFFSETTO:-0500
TZNAME:CDT
DTSTART:19700308T020000
RRULE:FREQ=YEARLY;BYMONTH=3;BYDAY=2SU
END:DAYLIGHT
BEGIN:STANDARD
TZOFFSETFROM:-0500
TZOFFSETTO:-0600
TZNAME:CST
DTSTART:19701101T020000
RRULE:FREQ=YEARLY;BYMONTH=11;BYDAY=1SU
END:STANDARD
END:VTIMEZONE
BEGIN:VEVENT
DTSTAMP:20181221T160909Z
LOCATION:D227
DTSTART;TZID=America/Chicago:20181112T133000
DTEND;TZID=America/Chicago:20181112T150000
UID:submissions.supercomputing.org_SC18_sess360@linklings.com
SUMMARY:Students@SC: HPC Research
DESCRIPTION:Students@SC Event\nStudent Program\n\nParallel Programming Mod
 els for the Extreme Scale Era\n\nKale\n\nParallel programming has always b
 een challenging. In addition to the traditional challenges of (sequential)
  programming, parallel programming has to deal with complex issues of perf
 ormance such as load imbalances, long critical paths, and communication ov
 erheads, as well as correctness issues arisin...\n\n---------------------\
 nA Renaissance for Domain-Specific Languages, Compilers and Code Generator
 s for HPC and Big Data\n\nHall\n\nToday’s HPC architectures are diverse an
 d complex.  Achieving high performance often requires low-level, architect
 ure-specific code that is difficult to derive and does not port across arc
 hitectures.  It seems that writing such code has reached a pain threshold 
 for programmers, and this has motivate...\n\n---------------------\nSoftwa
 re Development Tools for HPC and at Scale\n\nSchulz\n\nDebugging and perfo
 rmance optimization are critical steps in the software development process
  for HPC applications and need to be supported by appropriate tools. Compa
 red to comparable standard tools, however, HPC tools need to fulfill one a
 dditional requirement: they need to scale themselves, i.e.,...\n\n--------
 -------------\nOpportunities for Extreme Heterogeneity in High Performance
  Architectures\n\nGokhale\n\nHPC architectures now provide special-purpose
  accelerated processing units to augment general purpose compute cores. In
  the future it is expected that architectural diversity will greatly incre
 ase, with heterogeneous components appearing at many levels of granularity
 . In this talk, I will discuss op...\n
END:VEVENT
END:VCALENDAR

