BEGIN:VCALENDAR
VERSION:2.0
PRODID:Linklings LLC
BEGIN:VTIMEZONE
TZID:America/Chicago
X-LIC-LOCATION:America/Chicago
BEGIN:DAYLIGHT
TZOFFSETFROM:-0600
TZOFFSETTO:-0500
TZNAME:CDT
DTSTART:19700308T020000
RRULE:FREQ=YEARLY;BYMONTH=3;BYDAY=2SU
END:DAYLIGHT
BEGIN:STANDARD
TZOFFSETFROM:-0500
TZOFFSETTO:-0600
TZNAME:CST
DTSTART:19701101T020000
RRULE:FREQ=YEARLY;BYMONTH=11;BYDAY=1SU
END:STANDARD
END:VTIMEZONE
BEGIN:VEVENT
DTSTAMP:20181221T160903Z
LOCATION:C2/3/4 Ballroom
DTSTART;TZID=America/Chicago:20181115T083000
DTEND;TZID=America/Chicago:20181115T170000
UID:submissions.supercomputing.org_SC18_sess324_post254@linklings.com
SUMMARY:RGB (Redfish Green500 Benchmarker): A Green500 Benchmarking Tool U
 sing Redfish
DESCRIPTION:Poster\nTech Program Reg Pass, Exhibits Reg Pass\n\nRGB (Redfi
 sh Green500 Benchmarker): A Green500 Benchmarking Tool Using Redfish\n\nHo
 jati, Chen, Sill, Hass\n\nPerformance and energy are important factors for
  supercomputers and data-centers with a trade-off between them. Energy eff
 iciency metric considers both of these properties.  The Green500 is a bran
 ch of Top500 project which provides a list of supercomputers based on ener
 gy efficiency. It has a manual methodology for this calculation. \n\nRedfi
 sh is a new generation of management technologies for the hardware layer o
 f data-centers.  Our project focuses on designing and developing an automa
 ted Green500 benchmark tool using Redfish, called Redfish Green500 Benchma
 rker, or RGB in short. It offers the integration of Redfish and Green500, 
 and automates Green500 benchmarking process with leveraging the internal c
 apability of Redfish enabled equipment. It also enhances the Redfish stand
 ard to make sure it addresses the requirements of Green500 calculations.  
 This research will also conduct validation and evaluation of RGB on real-w
 orld clusters for small-scale to medium-scale tests, and on the data-cente
 r simulator we have developed.
URL:https://sc18.supercomputing.org/presentation/?id=post254&sess=sess324
END:VEVENT
END:VCALENDAR

