BEGIN:VCALENDAR
VERSION:2.0
PRODID:Linklings LLC
BEGIN:VTIMEZONE
TZID:America/Chicago
X-LIC-LOCATION:America/Chicago
BEGIN:DAYLIGHT
TZOFFSETFROM:-0600
TZOFFSETTO:-0500
TZNAME:CDT
DTSTART:19700308T020000
RRULE:FREQ=YEARLY;BYMONTH=3;BYDAY=2SU
END:DAYLIGHT
BEGIN:STANDARD
TZOFFSETFROM:-0500
TZOFFSETTO:-0600
TZNAME:CST
DTSTART:19701101T020000
RRULE:FREQ=YEARLY;BYMONTH=11;BYDAY=1SU
END:STANDARD
END:VTIMEZONE
BEGIN:VEVENT
DTSTAMP:20181221T160903Z
LOCATION:C2/3/4 Ballroom
DTSTART;TZID=America/Chicago:20181115T083000
DTEND;TZID=America/Chicago:20181115T170000
UID:submissions.supercomputing.org_SC18_sess324_post215@linklings.com
SUMMARY:Optimizing Next Generation Hydrodynamics Code for Exascale Systems
DESCRIPTION:Poster\nTech Program Reg Pass, Exhibits Reg Pass\n\nOptimizing
  Next Generation Hydrodynamics Code for Exascale Systems\n\nAkhmetova, Lak
 shmiranganatha, Mukherjee, Oullet, Payne...\n\nStudying continuum dynamics
  problems computationally can illuminate complex physical phenomena where 
 experimentation is too costly. However, the models used in studying these 
 phenomena usually require intensive calculations, some of which are beyond
  even the largest supercomputers to date. Emerging high performance comput
 ing (HPC) platforms will likely have varied levels of heterogeneity, makin
 g hybrid programming with MPI+X essential for achieving optimal performanc
 e. This research investigates hybrid programming and unconventional approa
 ches like machine learning for a next generation hydrodynamics code, FleCS
 ALE, in the context of tabular equation of state (EOS). We demonstrate an 
 overall 5x speedup to the code, the use of GPUs to accelerate EOS tabular 
 interpolation, and a proof of concept machine learning approach to EOS.
URL:https://sc18.supercomputing.org/presentation/?id=post215&sess=sess324
END:VEVENT
END:VCALENDAR

