BEGIN:VCALENDAR
VERSION:2.0
PRODID:Linklings LLC
BEGIN:VTIMEZONE
TZID:America/Chicago
X-LIC-LOCATION:America/Chicago
BEGIN:DAYLIGHT
TZOFFSETFROM:-0600
TZOFFSETTO:-0500
TZNAME:CDT
DTSTART:19700308T020000
RRULE:FREQ=YEARLY;BYMONTH=3;BYDAY=2SU
END:DAYLIGHT
BEGIN:STANDARD
TZOFFSETFROM:-0500
TZOFFSETTO:-0600
TZNAME:CST
DTSTART:19701101T020000
RRULE:FREQ=YEARLY;BYMONTH=11;BYDAY=1SU
END:STANDARD
END:VTIMEZONE
BEGIN:VEVENT
DTSTAMP:20181221T160907Z
LOCATION:Exhibit Hall C\, D\, E and F
DTSTART;TZID=America/Chicago:20181113T100000
DTEND;TZID=America/Chicago:20181113T180000
UID:submissions.supercomputing.org_SC18_sess309_pec116@linklings.com
SUMMARY:Exhibits
DESCRIPTION:Exhibits\nTech Program Reg Pass, Exhibits Reg Pass, Exhibits -
  Exhibit Hall Only Reg Pass\n\nExhibits\n\n\n\nCome visit with over 300 ex
 hibitors that range from industry to academia and research. There is sure 
 to be something for everyone.\n\nSC History Makers: Visit exhibitors displ
 aying a “SC History Maker” sign and learn how they made supercomputing his
 tory. Information about their contributions to HPC will also be displayed 
 on digital signs throughout the conference.
URL:https://sc18.supercomputing.org/presentation/?id=pec116&sess=sess309
END:VEVENT
END:VCALENDAR

