BEGIN:VCALENDAR
VERSION:2.0
PRODID:Linklings LLC
BEGIN:VTIMEZONE
TZID:America/Chicago
X-LIC-LOCATION:America/Chicago
BEGIN:DAYLIGHT
TZOFFSETFROM:-0600
TZOFFSETTO:-0500
TZNAME:CDT
DTSTART:19700308T020000
RRULE:FREQ=YEARLY;BYMONTH=3;BYDAY=2SU
END:DAYLIGHT
BEGIN:STANDARD
TZOFFSETFROM:-0500
TZOFFSETTO:-0600
TZNAME:CST
DTSTART:19701101T020000
RRULE:FREQ=YEARLY;BYMONTH=11;BYDAY=1SU
END:STANDARD
END:VTIMEZONE
BEGIN:VEVENT
DTSTAMP:20181221T160908Z
LOCATION:D173
DTSTART;TZID=America/Chicago:20181114T133000
DTEND;TZID=America/Chicago:20181114T150000
UID:submissions.supercomputing.org_SC18_sess276@linklings.com
SUMMARY:Machine Learning and AI
DESCRIPTION:Exhibitor Forum\n\n\nData Protection Solutions for ML/AI\n\nAr
 mstrong, Clements\n\nIgneous has customers building artificial intelligenc
 e models that revolutionize the diagnosis and treatment of cancer and othe
 r life-threatening diseases. Their machine learning workflows utilize a pr
 oprietary storage solution as an archive tier, working in conjunction with
  high performance storage...\n\n---------------------\nManaging the Conver
 gence of HPC and AI\n\nFalkanger\n\nHPC environments are the most signific
 ant source of processing capacity in many organizations, and more users wa
 nt to leverage the power of the “SuperComputer" for their workloads to get
  performance beyond the single box.  These "new customers" for your HPC cl
 uster may have little knowledge on how t...\n\n---------------------\nCass
 andra in Dockers Deployment Using an NVMe Fabric\n\nBelgaied, Paulsen\n\nT
 he Cassandra distributed database achieves high throughput and large capac
 ity at an unparalleled resiliency by scaling linearly to a large number of
  nodes, while keeping multiple copies of the data. This comes at the price
  of increased latency and inefficient use of CPU and storage. Viking Enter
 pri...\n
END:VEVENT
END:VCALENDAR

