BEGIN:VCALENDAR
VERSION:2.0
PRODID:Linklings LLC
BEGIN:VTIMEZONE
TZID:America/Chicago
X-LIC-LOCATION:America/Chicago
BEGIN:DAYLIGHT
TZOFFSETFROM:-0600
TZOFFSETTO:-0500
TZNAME:CDT
DTSTART:19700308T020000
RRULE:FREQ=YEARLY;BYMONTH=3;BYDAY=2SU
END:DAYLIGHT
BEGIN:STANDARD
TZOFFSETFROM:-0500
TZOFFSETTO:-0600
TZNAME:CST
DTSTART:19701101T020000
RRULE:FREQ=YEARLY;BYMONTH=11;BYDAY=1SU
END:STANDARD
END:VTIMEZONE
BEGIN:VEVENT
DTSTAMP:20181221T160731Z
LOCATION:D173
DTSTART;TZID=America/Chicago:20181114T140000
DTEND;TZID=America/Chicago:20181114T143000
UID:submissions.supercomputing.org_SC18_sess276_exforum123@linklings.com
SUMMARY:Data Protection Solutions for ML/AI
DESCRIPTION:Exhibitor Forum\nMachine Learning\n\nData Protection Solutions
  for ML/AI\n\nArmstrong, Clements\n\nIgneous has customers building artifi
 cial intelligence models that revolutionize the diagnosis and treatment of
  cancer and other life-threatening diseases. Their machine learning workfl
 ows utilize a proprietary storage solution as an archive tier, working in 
 conjunction with high performance storage and computing. \n\nIgneous acts 
 as the central repository for petabytes of imaging data. Small subsets of 
 data (< 2% of the entire dataset) are active at any one time for high perf
 ormance compute, which acts as a “hot edge” for the data to be processed b
 y image processing software running on a high-performance deep learning pl
 atform. In addition, Igneous acts as the central repository to archive all
  computational results, enabling the “hot edge” to be cleared for subseque
 nt workloads. Delivered as-a-Service and remotely managed, Igneous enables
  organizations to keep their IT departments lean so that they can focus on
  groundbreaking research instead.
URL:https://sc18.supercomputing.org/presentation/?id=exforum123&sess=sess2
 76
END:VEVENT
END:VCALENDAR

