BEGIN:VCALENDAR
VERSION:2.0
PRODID:Linklings LLC
BEGIN:VTIMEZONE
TZID:America/Chicago
X-LIC-LOCATION:America/Chicago
BEGIN:DAYLIGHT
TZOFFSETFROM:-0600
TZOFFSETTO:-0500
TZNAME:CDT
DTSTART:19700308T020000
RRULE:FREQ=YEARLY;BYMONTH=3;BYDAY=2SU
END:DAYLIGHT
BEGIN:STANDARD
TZOFFSETFROM:-0500
TZOFFSETTO:-0600
TZNAME:CST
DTSTART:19701101T020000
RRULE:FREQ=YEARLY;BYMONTH=11;BYDAY=1SU
END:STANDARD
END:VTIMEZONE
BEGIN:VEVENT
DTSTAMP:20181221T160728Z
LOCATION:A302 - Early Career Program
DTSTART;TZID=America/Chicago:20181112T143000
DTEND;TZID=America/Chicago:20181112T150000
UID:submissions.supercomputing.org_SC18_sess266_pec109@linklings.com
SUMMARY:Presenting / Communication
DESCRIPTION:Early Career Program\n\n\nPresenting / Communication\n\nDebuss
 chere, Scrivner\n\nThis session will cover the general relevance of presen
 tation skills, use of ignite talks, and elevator pitches. It will include 
 a short hands-on workshop: create your own elevator pitch / ignite talk on
  your research topic.
URL:https://sc18.supercomputing.org/presentation/?id=pec109&sess=sess266
END:VEVENT
END:VCALENDAR

