BEGIN:VCALENDAR
VERSION:2.0
PRODID:Linklings LLC
BEGIN:VTIMEZONE
TZID:America/Chicago
X-LIC-LOCATION:America/Chicago
BEGIN:DAYLIGHT
TZOFFSETFROM:-0600
TZOFFSETTO:-0500
TZNAME:CDT
DTSTART:19700308T020000
RRULE:FREQ=YEARLY;BYMONTH=3;BYDAY=2SU
END:DAYLIGHT
BEGIN:STANDARD
TZOFFSETFROM:-0500
TZOFFSETTO:-0600
TZNAME:CST
DTSTART:19701101T020000
RRULE:FREQ=YEARLY;BYMONTH=11;BYDAY=1SU
END:STANDARD
END:VTIMEZONE
BEGIN:VEVENT
DTSTAMP:20181221T160911Z
LOCATION:Exhibit Hall B
DTSTART;TZID=America/Chicago:20181113T103000
DTEND;TZID=America/Chicago:20181113T120000
UID:submissions.supercomputing.org_SC18_sess224@linklings.com
SUMMARY:Invited Talk Session 1
DESCRIPTION:Invited Talk\nTech Program Reg Pass, Exhibits Reg Pass\n\nThe 
 Age of Data - Visualizing the Revolution\n\nJohnson\n\nWe live in the Age 
 of Data.  90% of all data in the world has been created in the past two ye
 ars at a rate of exabytes per day. New data is growing exponentially in ev
 ery way: structured, unstructured, quantitative, qualitative, spatial, tem
 poral. One of our greatest scientific challenges is to effe...\n\n--------
 -------------\nBrain-Inspired Massively-Parallel Computing\n\nFurber\n\nNe
 uromorphic computing, that is, computing based upon brain-like principles 
 - can be traced back to the pioneering work of Carver Mead in the 1980s. A
 cademic research into neuromorphic systems has continued since then in var
 ious forms, including analog, digital and hybrid systems, primarily with t
 he...\n
END:VEVENT
END:VCALENDAR

