BEGIN:VCALENDAR
VERSION:2.0
PRODID:Linklings LLC
BEGIN:VTIMEZONE
TZID:America/Chicago
X-LIC-LOCATION:America/Chicago
BEGIN:DAYLIGHT
TZOFFSETFROM:-0600
TZOFFSETTO:-0500
TZNAME:CDT
DTSTART:19700308T020000
RRULE:FREQ=YEARLY;BYMONTH=3;BYDAY=2SU
END:DAYLIGHT
BEGIN:STANDARD
TZOFFSETFROM:-0500
TZOFFSETTO:-0600
TZNAME:CST
DTSTART:19701101T020000
RRULE:FREQ=YEARLY;BYMONTH=11;BYDAY=1SU
END:STANDARD
END:VTIMEZONE
BEGIN:VEVENT
DTSTAMP:20181221T160729Z
LOCATION:Exhibit Hall B
DTSTART;TZID=America/Chicago:20181113T103000
DTEND;TZID=America/Chicago:20181113T111500
UID:submissions.supercomputing.org_SC18_sess224_inv110@linklings.com
SUMMARY:The Age of Data - Visualizing the Revolution
DESCRIPTION:Invited Talk\nTech Program Reg Pass, Exhibits Reg Pass\n\nThe 
 Age of Data - Visualizing the Revolution\n\nJohnson\n\nWe live in the Age 
 of Data.  90% of all data in the world has been created in the past two ye
 ars at a rate of exabytes per day. New data is growing exponentially in ev
 ery way: structured, unstructured, quantitative, qualitative, spatial, tem
 poral. One of our greatest scientific challenges is to effectively underst
 and and make use of the vast amount of data being produced. Visual data an
 alysis will be among our most important tools to understand such large-sca
 le complex data. Visualization is useful for detecting patterns, assessing
  situations, and prioritizing tasks.  Visualization facilitates the reason
 ing process by supporting the human capacity to perceive, understand, and 
 reason about complex large-scale data and enables researchers to derive kn
 owledge from data.  In this talk, I will present state-of-the-art visual a
 nalysis techniques, insights and examples of how visualization can enable 
 understanding in the Age of Data.
URL:https://sc18.supercomputing.org/presentation/?id=inv110&sess=sess224
END:VEVENT
END:VCALENDAR

