BEGIN:VCALENDAR
VERSION:2.0
PRODID:Linklings LLC
BEGIN:VTIMEZONE
TZID:America/Chicago
X-LIC-LOCATION:America/Chicago
BEGIN:DAYLIGHT
TZOFFSETFROM:-0600
TZOFFSETTO:-0500
TZNAME:CDT
DTSTART:19700308T020000
RRULE:FREQ=YEARLY;BYMONTH=3;BYDAY=2SU
END:DAYLIGHT
BEGIN:STANDARD
TZOFFSETFROM:-0500
TZOFFSETTO:-0600
TZNAME:CST
DTSTART:19701101T020000
RRULE:FREQ=YEARLY;BYMONTH=11;BYDAY=1SU
END:STANDARD
END:VTIMEZONE
BEGIN:VEVENT
DTSTAMP:20181221T160728Z
LOCATION:D173
DTSTART;TZID=America/Chicago:20181112T161000
DTEND;TZID=America/Chicago:20181112T163000
UID:submissions.supercomputing.org_SC18_sess175_pec445@linklings.com
SUMMARY:Open-Source Modeling and Simulation
DESCRIPTION:Workshop\nArchitectures, Collaborative Environments, Parallel 
 Programming Languages, Libraries, and Models, Simulation, Workflows, Works
 hop Reg Pass\n\nOpen-Source Modeling and Simulation\n\nVoskuilen
URL:https://sc18.supercomputing.org/presentation/?id=pec445&sess=sess175
END:VEVENT
END:VCALENDAR

