BEGIN:VCALENDAR
VERSION:2.0
PRODID:Linklings LLC
BEGIN:VTIMEZONE
TZID:America/Chicago
X-LIC-LOCATION:America/Chicago
BEGIN:DAYLIGHT
TZOFFSETFROM:-0600
TZOFFSETTO:-0500
TZNAME:CDT
DTSTART:19700308T020000
RRULE:FREQ=YEARLY;BYMONTH=3;BYDAY=2SU
END:DAYLIGHT
BEGIN:STANDARD
TZOFFSETFROM:-0500
TZOFFSETTO:-0600
TZNAME:CST
DTSTART:19701101T020000
RRULE:FREQ=YEARLY;BYMONTH=11;BYDAY=1SU
END:STANDARD
END:VTIMEZONE
BEGIN:VEVENT
DTSTAMP:20181221T160725Z
LOCATION:D166
DTSTART;TZID=America/Chicago:20181111T090000
DTEND;TZID=America/Chicago:20181111T090100
UID:submissions.supercomputing.org_SC18_sess174_wksp142@linklings.com
SUMMARY:Introduction - Workshop on Exascale MPI (ExaMPI)
DESCRIPTION:Workshop\nExascale, Networks, System Software, Workshop Reg Pa
 ss\n\nIntroduction - Workshop on Exascale MPI (ExaMPI)\n\nGrant, Skjellum,
  Bangalore, Holmes\n\nThe aim of workshop is to bring together researchers
  and developers to present and discuss innovative algorithms and concepts 
 in the Message Passing programming model and to create a forum for open an
 d potentially controversial discussions on the future of MPI in the Exasca
 le era. Possible workshop topics include innovative algorithms for collect
 ive operations, extensions to MPI, including datacentric models, schedulin
 g/routing to avoid network congestion, “fault-tolerant” communication, int
 eroperability of MPI and PGAS models, integration of task-parallel models 
 in MPI, and use of MPI in large scale simulations.
URL:https://sc18.supercomputing.org/presentation/?id=wksp142&sess=sess174
END:VEVENT
END:VCALENDAR

