BEGIN:VCALENDAR
VERSION:2.0
PRODID:Linklings LLC
BEGIN:VTIMEZONE
TZID:America/Chicago
X-LIC-LOCATION:America/Chicago
BEGIN:DAYLIGHT
TZOFFSETFROM:-0600
TZOFFSETTO:-0500
TZNAME:CDT
DTSTART:19700308T020000
RRULE:FREQ=YEARLY;BYMONTH=3;BYDAY=2SU
END:DAYLIGHT
BEGIN:STANDARD
TZOFFSETFROM:-0500
TZOFFSETTO:-0600
TZNAME:CST
DTSTART:19701101T020000
RRULE:FREQ=YEARLY;BYMONTH=11;BYDAY=1SU
END:STANDARD
END:VTIMEZONE
BEGIN:VEVENT
DTSTAMP:20181221T160725Z
LOCATION:D166
DTSTART;TZID=America/Chicago:20181111T090100
DTEND;TZID=America/Chicago:20181111T100000
UID:submissions.supercomputing.org_SC18_sess174_pec366@linklings.com
SUMMARY:ExaMPI Keynote
DESCRIPTION:Workshop\nExascale, Networks, System Software, Workshop Reg Pa
 ss\n\nExaMPI Keynote\n\nHoefler
URL:https://sc18.supercomputing.org/presentation/?id=pec366&sess=sess174
END:VEVENT
END:VCALENDAR

