BEGIN:VCALENDAR
VERSION:2.0
PRODID:Linklings LLC
BEGIN:VTIMEZONE
TZID:America/Chicago
X-LIC-LOCATION:America/Chicago
BEGIN:DAYLIGHT
TZOFFSETFROM:-0600
TZOFFSETTO:-0500
TZNAME:CDT
DTSTART:19700308T020000
RRULE:FREQ=YEARLY;BYMONTH=3;BYDAY=2SU
END:DAYLIGHT
BEGIN:STANDARD
TZOFFSETFROM:-0500
TZOFFSETTO:-0600
TZNAME:CST
DTSTART:19701101T020000
RRULE:FREQ=YEARLY;BYMONTH=11;BYDAY=1SU
END:STANDARD
END:VTIMEZONE
BEGIN:VEVENT
DTSTAMP:20181221T160726Z
LOCATION:D167/174
DTSTART;TZID=America/Chicago:20181111T112500
DTEND;TZID=America/Chicago:20181111T114000
UID:submissions.supercomputing.org_SC18_sess170_ws_h2rc102@linklings.com
SUMMARY:Integrating Network-Attached FPGAs into the Cloud Using Partial Re
 configuration
DESCRIPTION:Workshop\nAccelerators, Heterogeneous Systems, NVRAM, Workshop
  Reg Pass\n\nIntegrating Network-Attached FPGAs into the Cloud Using Parti
 al Reconfiguration\n\nRinglein, Abel, Ditter
URL:https://sc18.supercomputing.org/presentation/?id=ws_h2rc102&sess=sess1
 70
END:VEVENT
END:VCALENDAR

