BEGIN:VCALENDAR
VERSION:2.0
PRODID:Linklings LLC
BEGIN:VTIMEZONE
TZID:America/Chicago
X-LIC-LOCATION:America/Chicago
BEGIN:DAYLIGHT
TZOFFSETFROM:-0600
TZOFFSETTO:-0500
TZNAME:CDT
DTSTART:19700308T020000
RRULE:FREQ=YEARLY;BYMONTH=3;BYDAY=2SU
END:DAYLIGHT
BEGIN:STANDARD
TZOFFSETFROM:-0500
TZOFFSETTO:-0600
TZNAME:CST
DTSTART:19701101T020000
RRULE:FREQ=YEARLY;BYMONTH=11;BYDAY=1SU
END:STANDARD
END:VTIMEZONE
BEGIN:VEVENT
DTSTAMP:20181221T160727Z
LOCATION:D170
DTSTART;TZID=America/Chicago:20181112T092500
DTEND;TZID=America/Chicago:20181112T094500
UID:submissions.supercomputing.org_SC18_sess169_ws_daac115@linklings.com
SUMMARY:Workload Time Series Prediction in Storage Systems: A Deep Learnin
 g Based Approach
DESCRIPTION:Workshop\nDeep Learning, HPC Center Planning and Operations, H
 eterogeneous Systems, Scheduling, Scientific Computing, State of the Pract
 ice, Workshop Reg Pass, Datacenter\n\nWorkload Time Series Prediction in S
 torage Systems: A Deep Learning Based Approach\n\nRuan, Bai, Xiao, Xv, Zha
 ng...
URL:https://sc18.supercomputing.org/presentation/?id=ws_daac115&sess=sess1
 69
END:VEVENT
END:VCALENDAR

