BEGIN:VCALENDAR
VERSION:2.0
PRODID:Linklings LLC
BEGIN:VTIMEZONE
TZID:America/Chicago
X-LIC-LOCATION:America/Chicago
BEGIN:DAYLIGHT
TZOFFSETFROM:-0600
TZOFFSETTO:-0500
TZNAME:CDT
DTSTART:19700308T020000
RRULE:FREQ=YEARLY;BYMONTH=3;BYDAY=2SU
END:DAYLIGHT
BEGIN:STANDARD
TZOFFSETFROM:-0500
TZOFFSETTO:-0600
TZNAME:CST
DTSTART:19701101T020000
RRULE:FREQ=YEARLY;BYMONTH=11;BYDAY=1SU
END:STANDARD
END:VTIMEZONE
BEGIN:VEVENT
DTSTAMP:20181221T160728Z
LOCATION:D170
DTSTART;TZID=America/Chicago:20181112T115000
DTEND;TZID=America/Chicago:20181112T121000
UID:submissions.supercomputing.org_SC18_sess169_ws_daac102@linklings.com
SUMMARY:Energy and Power Aware Job Scheduling and Resource Management: Glo
 bal Survey --- An In-Depth Analysis
DESCRIPTION:Workshop\nHPC Center Planning and Operations, Heterogeneous Sy
 stems, Scientific Computing, State of the Practice, Workshop Reg Pass, Dat
 acenter\n\nEnergy and Power Aware Job Scheduling and Resource Management: 
 Global Survey --- An In-Depth Analysis\n\nKoenig, Maiterth, Jana, Bates, P
 edretti...\n\nThis paper presents a detailed analysis of a first-of-kind g
 lobal survey of high-performance computing centers that actively employ te
 chniques within job scheduling and resource management middleware layers f
 or managing energy and power on production supercomputers.\n\nOur group co
 nducted a series of comprehensive interviews of leading-edge supercomputin
 g centers during 2016 and 2017.  The group presented the motivation of the
  survey center selection, questionnaire details, and a preliminary analysi
 s of the survey results in a previous publication.  This paper presents a 
 more detailed analysis of the survey results.  The goal is to find commona
 lities, approaches that are to be developed, and hints and guidelines for 
 other centers to move toward a more energy efficient and power aware manag
 ement of their compute resources.
URL:https://sc18.supercomputing.org/presentation/?id=ws_daac102&sess=sess1
 69
END:VEVENT
END:VCALENDAR

