BEGIN:VCALENDAR
VERSION:2.0
PRODID:Linklings LLC
BEGIN:VTIMEZONE
TZID:America/Chicago
X-LIC-LOCATION:America/Chicago
BEGIN:DAYLIGHT
TZOFFSETFROM:-0600
TZOFFSETTO:-0500
TZNAME:CDT
DTSTART:19700308T020000
RRULE:FREQ=YEARLY;BYMONTH=3;BYDAY=2SU
END:DAYLIGHT
BEGIN:STANDARD
TZOFFSETFROM:-0500
TZOFFSETTO:-0600
TZNAME:CST
DTSTART:19701101T020000
RRULE:FREQ=YEARLY;BYMONTH=11;BYDAY=1SU
END:STANDARD
END:VTIMEZONE
BEGIN:VEVENT
DTSTAMP:20181221T160728Z
LOCATION:D170
DTSTART;TZID=America/Chicago:20181112T165000
DTEND;TZID=America/Chicago:20181112T172900
UID:submissions.supercomputing.org_SC18_sess169_pec408@linklings.com
SUMMARY:Invited Talk: Current Status of the OpenHPC Project
DESCRIPTION:Workshop\nBuild Systems, HPC Center Planning and Operations, H
 eterogeneous Systems, Scientific Computing, State of the Practice, Worksho
 p Reg Pass, HPC, Datacenter\n\nInvited Talk: Current Status of the OpenHPC
  Project\n\nSchulz\n\nOver the last several years, OpenHPC has emerged as 
 a community-driven stack providing a variety of common, pre-built ingredie
 nts to deploy and manage an HPC Linux cluster including provisioning tools
 , resource management, I/O clients, runtimes, development tools, and a var
 iety of scientific libraries. Formed initially in November 2015 and formal
 ized as a Linux Foundation project in June 2016, OpenHPC has been adding n
 ew software components and now supports multiple OSes and architectures. T
 his presentation will present an overview of the project, currently availa
 ble software, the general build and test architecture employed to deliver 
 a flexible development environment, and highlight general project updates 
 and future plans.
URL:https://sc18.supercomputing.org/presentation/?id=pec408&sess=sess169
END:VEVENT
END:VCALENDAR

