BEGIN:VCALENDAR
VERSION:2.0
PRODID:Linklings LLC
BEGIN:VTIMEZONE
TZID:America/Chicago
X-LIC-LOCATION:America/Chicago
BEGIN:DAYLIGHT
TZOFFSETFROM:-0600
TZOFFSETTO:-0500
TZNAME:CDT
DTSTART:19700308T020000
RRULE:FREQ=YEARLY;BYMONTH=3;BYDAY=2SU
END:DAYLIGHT
BEGIN:STANDARD
TZOFFSETFROM:-0500
TZOFFSETTO:-0600
TZNAME:CST
DTSTART:19701101T020000
RRULE:FREQ=YEARLY;BYMONTH=11;BYDAY=1SU
END:STANDARD
END:VTIMEZONE
BEGIN:VEVENT
DTSTAMP:20181221T160728Z
LOCATION:D170
DTSTART;TZID=America/Chicago:20181112T153000
DTEND;TZID=America/Chicago:20181112T161000
UID:submissions.supercomputing.org_SC18_sess169_pec406@linklings.com
SUMMARY:Invited Talk: Resource Control at Facebook
DESCRIPTION:Workshop\nHPC Center Planning and Operations, Heterogeneous Sy
 stems, Resource Management, Scientific Computing, State of the Practice, W
 orkshop Reg Pass, Datacenter, Industry\n\nInvited Talk: Resource Control a
 t Facebook\n\nHeo\n\nFacebook has been actively experimenting with cgroup2
  resource control for years. In the process, we developed several kernel a
 nd userland mechanisms, fixed numerous isolation issues, and discovered a 
 number of surprising interactions. We finally have work-conserving full-OS
  resource control working and are now in the process of refining and deplo
 ying for various applications including workload protection.\n\nLet's take
  a look at the mistakes, the lessons, and the result.
URL:https://sc18.supercomputing.org/presentation/?id=pec406&sess=sess169
END:VEVENT
END:VCALENDAR

