BEGIN:VCALENDAR
VERSION:2.0
PRODID:Linklings LLC
BEGIN:VTIMEZONE
TZID:America/Chicago
X-LIC-LOCATION:America/Chicago
BEGIN:DAYLIGHT
TZOFFSETFROM:-0600
TZOFFSETTO:-0500
TZNAME:CDT
DTSTART:19700308T020000
RRULE:FREQ=YEARLY;BYMONTH=3;BYDAY=2SU
END:DAYLIGHT
BEGIN:STANDARD
TZOFFSETFROM:-0500
TZOFFSETTO:-0600
TZNAME:CST
DTSTART:19701101T020000
RRULE:FREQ=YEARLY;BYMONTH=11;BYDAY=1SU
END:STANDARD
END:VTIMEZONE
BEGIN:VEVENT
DTSTAMP:20181221T160727Z
LOCATION:D170
DTSTART;TZID=America/Chicago:20181112T090100
DTEND;TZID=America/Chicago:20181112T090500
UID:submissions.supercomputing.org_SC18_sess169_pec405@linklings.com
SUMMARY:Welcome, Workshop Goals, and Opening Remarks
DESCRIPTION:Workshop\nHPC Center Planning and Operations, Heterogeneous Sy
 stems, Scientific Computing, State of the Practice, Workshop Reg Pass, Dat
 acenter\n\nWelcome, Workshop Goals, and Opening Remarks\n\nSill, Chen
URL:https://sc18.supercomputing.org/presentation/?id=pec405&sess=sess169
END:VEVENT
END:VCALENDAR

