BEGIN:VCALENDAR
VERSION:2.0
PRODID:Linklings LLC
BEGIN:VTIMEZONE
TZID:America/Chicago
X-LIC-LOCATION:America/Chicago
BEGIN:DAYLIGHT
TZOFFSETFROM:-0600
TZOFFSETTO:-0500
TZNAME:CDT
DTSTART:19700308T020000
RRULE:FREQ=YEARLY;BYMONTH=3;BYDAY=2SU
END:DAYLIGHT
BEGIN:STANDARD
TZOFFSETFROM:-0500
TZOFFSETTO:-0600
TZNAME:CST
DTSTART:19701101T020000
RRULE:FREQ=YEARLY;BYMONTH=11;BYDAY=1SU
END:STANDARD
END:VTIMEZONE
BEGIN:VEVENT
DTSTAMP:20181221T160726Z
LOCATION:D171
DTSTART;TZID=America/Chicago:20181111T114500
DTEND;TZID=America/Chicago:20181111T123000
UID:submissions.supercomputing.org_SC18_sess167_pec144@linklings.com
SUMMARY:Open Panel: Automating Artifact Sharing, Evaluation, and Reuse
DESCRIPTION:Workshop\nReproducibility, Software Engineering, Workflows, Wo
 rkshop Reg Pass\n\nOpen Panel: Automating Artifact Sharing, Evaluation, an
 d Reuse\n\nFursin, Gamblin, Taufer, Heroux, Harrell
URL:https://sc18.supercomputing.org/presentation/?id=pec144&sess=sess167
END:VEVENT
END:VCALENDAR

