BEGIN:VCALENDAR
VERSION:2.0
PRODID:Linklings LLC
BEGIN:VTIMEZONE
TZID:America/Chicago
X-LIC-LOCATION:America/Chicago
BEGIN:DAYLIGHT
TZOFFSETFROM:-0600
TZOFFSETTO:-0500
TZNAME:CDT
DTSTART:19700308T020000
RRULE:FREQ=YEARLY;BYMONTH=3;BYDAY=2SU
END:DAYLIGHT
BEGIN:STANDARD
TZOFFSETFROM:-0500
TZOFFSETTO:-0600
TZNAME:CST
DTSTART:19701101T020000
RRULE:FREQ=YEARLY;BYMONTH=11;BYDAY=1SU
END:STANDARD
END:VTIMEZONE
BEGIN:VEVENT
DTSTAMP:20181221T160726Z
LOCATION:D168
DTSTART;TZID=America/Chicago:20181111T141700
DTEND;TZID=America/Chicago:20181111T143400
UID:submissions.supercomputing.org_SC18_sess165_ws_eduhpcp103@linklings.co
 m
SUMMARY:Evaluating the Wide Area Classroom after 10,500 HPC Students
DESCRIPTION:Workshop\nDiversity, Education, Workshop Reg Pass\n\nEvaluatin
 g the Wide Area Classroom after 10,500 HPC Students\n\nUrbanic, Maiden\n\n
 As of mid-2018 we have taught over 10,500 students in the course of 58 HPC
  events using the Wide Area Classroom, a novel distributed teaching platfo
 rm. This has been a successful effort gauged by several important metrics.
  We describe both the technical and logistical structure of these events a
 s well as the specific HPC curriculums which have proven to be most popula
 r.
URL:https://sc18.supercomputing.org/presentation/?id=ws_eduhpcp103&sess=se
 ss165
END:VEVENT
END:VCALENDAR

