BEGIN:VCALENDAR
VERSION:2.0
PRODID:Linklings LLC
BEGIN:VTIMEZONE
TZID:America/Chicago
X-LIC-LOCATION:America/Chicago
BEGIN:DAYLIGHT
TZOFFSETFROM:-0600
TZOFFSETTO:-0500
TZNAME:CDT
DTSTART:19700308T020000
RRULE:FREQ=YEARLY;BYMONTH=3;BYDAY=2SU
END:DAYLIGHT
BEGIN:STANDARD
TZOFFSETFROM:-0500
TZOFFSETTO:-0600
TZNAME:CST
DTSTART:19701101T020000
RRULE:FREQ=YEARLY;BYMONTH=11;BYDAY=1SU
END:STANDARD
END:VTIMEZONE
BEGIN:VEVENT
DTSTAMP:20181221T160726Z
LOCATION:D173
DTSTART;TZID=America/Chicago:20181111T123000
DTEND;TZID=America/Chicago:20181111T140000
UID:submissions.supercomputing.org_SC18_sess163_pec154@linklings.com
SUMMARY:Workshop Lunch (on your own)
DESCRIPTION:Workshop\nReproducibility, Scientific Computing, Scientific Wo
 rkflows, Workflows, Workshop Reg Pass, HPC, Data Intensive\n\nWorkshop Lun
 ch (on your own)\n\n
URL:https://sc18.supercomputing.org/presentation/?id=pec154&sess=sess163
END:VEVENT
END:VCALENDAR

