BEGIN:VCALENDAR
VERSION:2.0
PRODID:Linklings LLC
BEGIN:VTIMEZONE
TZID:America/Chicago
X-LIC-LOCATION:America/Chicago
BEGIN:DAYLIGHT
TZOFFSETFROM:-0600
TZOFFSETTO:-0500
TZNAME:CDT
DTSTART:19700308T020000
RRULE:FREQ=YEARLY;BYMONTH=3;BYDAY=2SU
END:DAYLIGHT
BEGIN:STANDARD
TZOFFSETFROM:-0500
TZOFFSETTO:-0600
TZNAME:CST
DTSTART:19701101T020000
RRULE:FREQ=YEARLY;BYMONTH=11;BYDAY=1SU
END:STANDARD
END:VTIMEZONE
BEGIN:VEVENT
DTSTAMP:20181221T160726Z
LOCATION:D221
DTSTART;TZID=America/Chicago:20181111T140000
DTEND;TZID=America/Chicago:20181111T140100
UID:submissions.supercomputing.org_SC18_sess162_wksp128@linklings.com
SUMMARY:Introduction - Computational Reproducibility at Exascale 2018 (CRE
 2018)
DESCRIPTION:Workshop\nExascale, Hot Topics, Reproducibility, Scientific Co
 mputing, Workshop Reg Pass\n\nIntroduction - Computational Reproducibility
  at Exascale 2018 (CRE2018)\n\nMascagni, Keyrouz, Leeser\n\nReproducibilit
 y is an important concern in all areas of computation.  As such, computati
 onal reproducibility is receiving increasing interest from a variety of pa
 rties who are concerned with different aspects of computational reproducib
 ility.  Computational reproducibility encompasses several concerns includi
 ng the sharing of code and data, as well as reproducible numerical results
  which may depend on operating system, tools, levels of parallelism, and n
 umerical effects.  In addition, the publication of reproducible computatio
 nal results motivates a host of computational reproducibility concerns tha
 t arise from the fundamental notion of reproducibility of scientific resul
 ts that has normally been restricted to experimental science.\n\nThe works
 hop addresses issues in reproducibility that arise when computing at exasc
 ale.  It will include issues of numerical reproducibility as well as appro
 aches and best practices to sharing and running code and the reproducible 
 dissemination of computational results.\n\nThe workshop is meant to addres
 s the scope of the problems of computational reproducibility in HPC in gen
 eral, and those anticipated as we scale up to exascale machines in the nex
 t decade. The participants of this workshop will include government, acade
 mic, and industry stakeholders; the goals of this workshop are to understa
 nd the current state of the problems that arise, what work is being done t
 o deal with this issues, and what the community thinks the possible approa
 ches to these problem are.
URL:https://sc18.supercomputing.org/presentation/?id=wksp128&sess=sess162
END:VEVENT
END:VCALENDAR

