BEGIN:VCALENDAR
VERSION:2.0
PRODID:Linklings LLC
BEGIN:VTIMEZONE
TZID:America/Chicago
X-LIC-LOCATION:America/Chicago
BEGIN:DAYLIGHT
TZOFFSETFROM:-0600
TZOFFSETTO:-0500
TZNAME:CDT
DTSTART:19700308T020000
RRULE:FREQ=YEARLY;BYMONTH=3;BYDAY=2SU
END:DAYLIGHT
BEGIN:STANDARD
TZOFFSETFROM:-0500
TZOFFSETTO:-0600
TZNAME:CST
DTSTART:19701101T020000
RRULE:FREQ=YEARLY;BYMONTH=11;BYDAY=1SU
END:STANDARD
END:VTIMEZONE
BEGIN:VEVENT
DTSTAMP:20181221T160726Z
LOCATION:D221
DTSTART;TZID=America/Chicago:20181111T140100
DTEND;TZID=America/Chicago:20181111T143100
UID:submissions.supercomputing.org_SC18_sess162_pec360@linklings.com
SUMMARY:CRE2018 – Plenary I
DESCRIPTION:Workshop\nExascale, Hot Topics, Reproducibility, Scientific Co
 mputing, Workshop Reg Pass\n\nCRE2018 – Plenary I\n\nStodden
URL:https://sc18.supercomputing.org/presentation/?id=pec360&sess=sess162
END:VEVENT
END:VCALENDAR

