BEGIN:VCALENDAR
VERSION:2.0
PRODID:Linklings LLC
BEGIN:VTIMEZONE
TZID:America/Chicago
X-LIC-LOCATION:America/Chicago
BEGIN:DAYLIGHT
TZOFFSETFROM:-0600
TZOFFSETTO:-0500
TZNAME:CDT
DTSTART:19700308T020000
RRULE:FREQ=YEARLY;BYMONTH=3;BYDAY=2SU
END:DAYLIGHT
BEGIN:STANDARD
TZOFFSETFROM:-0500
TZOFFSETTO:-0600
TZNAME:CST
DTSTART:19701101T020000
RRULE:FREQ=YEARLY;BYMONTH=11;BYDAY=1SU
END:STANDARD
END:VTIMEZONE
BEGIN:VEVENT
DTSTAMP:20181221T160726Z
LOCATION:D220
DTSTART;TZID=America/Chicago:20181111T144800
DTEND;TZID=America/Chicago:20181111T145000
UID:submissions.supercomputing.org_SC18_sess160_ws_whpc113@linklings.com
SUMMARY:Use Cases of Neuromorphic Co-Processors in Future HPC Environments
DESCRIPTION:Workshop\nDiversity, Education, Hot Topics, Workshop Reg Pass\
 n\nUse Cases of Neuromorphic Co-Processors in Future HPC Environments\n\nS
 chuman\n\nWith the looming end of Moore’s law and the end of Dennard scali
 ng, the HPC community is exploring the use of specialized hardware as acce
 lerators for certain tasks. Neuromorphic computing is a field in which neu
 ral networks are implemented in hardware to achieve intelligent computatio
 n with lower power and on a smaller footprint than traditional von Neumann
  architectures.  Neuromorphic systems are compelling candidates for inclus
 ion as co-processors in future HPCs, and they are suitable as co-processor
 s for multiple types of applications.  Here, we discuss neuromorphic syste
 ms as machine learning and graph algorithm accelerators.   As more users a
 re exposed to neuromorphic systems, we anticipate that even more use cases
  will arise.
URL:https://sc18.supercomputing.org/presentation/?id=ws_whpc113&sess=sess1
 60
END:VEVENT
END:VCALENDAR

