BEGIN:VCALENDAR
VERSION:2.0
PRODID:Linklings LLC
BEGIN:VTIMEZONE
TZID:America/Chicago
X-LIC-LOCATION:America/Chicago
BEGIN:DAYLIGHT
TZOFFSETFROM:-0600
TZOFFSETTO:-0500
TZNAME:CDT
DTSTART:19700308T020000
RRULE:FREQ=YEARLY;BYMONTH=3;BYDAY=2SU
END:DAYLIGHT
BEGIN:STANDARD
TZOFFSETFROM:-0500
TZOFFSETTO:-0600
TZNAME:CST
DTSTART:19701101T020000
RRULE:FREQ=YEARLY;BYMONTH=11;BYDAY=1SU
END:STANDARD
END:VTIMEZONE
BEGIN:VEVENT
DTSTAMP:20181221T160725Z
LOCATION:D220
DTSTART;TZID=America/Chicago:20181111T110000
DTEND;TZID=America/Chicago:20181111T113000
UID:submissions.supercomputing.org_SC18_sess160_pec364@linklings.com
SUMMARY:Hot Topics Discussion II: Thriving at Work
DESCRIPTION:Workshop\nDiversity, Education, Hot Topics, Workshop Reg Pass\
 n\nHot Topics Discussion II: Thriving at Work\n\nRivera, Nowell, Holohan\n
 \nThe session will resume hot topic presentations on the following topics:
 \n-  Effectively responding to discrimination -- Lorna Rivera, Georgia Tec
 h  \n-  Effective workplace communication -- Lucy Nowell, DoE Office of Sc
 ience\n-  Coming out as a transgender woman at a major HPC center -- Caris
 sa Holohan, Argonne National Laboratory
URL:https://sc18.supercomputing.org/presentation/?id=pec364&sess=sess160
END:VEVENT
END:VCALENDAR

