BEGIN:VCALENDAR
VERSION:2.0
PRODID:Linklings LLC
BEGIN:VTIMEZONE
TZID:America/Chicago
X-LIC-LOCATION:America/Chicago
BEGIN:DAYLIGHT
TZOFFSETFROM:-0600
TZOFFSETTO:-0500
TZNAME:CDT
DTSTART:19700308T020000
RRULE:FREQ=YEARLY;BYMONTH=3;BYDAY=2SU
END:DAYLIGHT
BEGIN:STANDARD
TZOFFSETFROM:-0500
TZOFFSETTO:-0600
TZNAME:CST
DTSTART:19701101T020000
RRULE:FREQ=YEARLY;BYMONTH=11;BYDAY=1SU
END:STANDARD
END:VTIMEZONE
BEGIN:VEVENT
DTSTAMP:20181221T160725Z
LOCATION:D220
DTSTART;TZID=America/Chicago:20181111T090500
DTEND;TZID=America/Chicago:20181111T100000
UID:submissions.supercomputing.org_SC18_sess160_pec348@linklings.com
SUMMARY:A Black Woman’s Sojourn in High Performance Computing: Recovering 
 Lost History
DESCRIPTION:Workshop\nDiversity, Education, Hot Topics, Workshop Reg Pass\
 n\nA Black Woman’s Sojourn in High Performance Computing: Recovering Lost 
 History\n\nMendenhall\n\nIn 1797, Isabella Bomfree was born a slave. She e
 scaped to freedom in 1827 and changed her name to Sojourner Truth in 1843 
 to indicate that she would travel far and wide to tell people what was rig
 ht. She gave her famous “Ain’t I a Woman?” speech in 1851 to highlight the
  strengths and vulnerabilities of being Black and a woman. Throughout hist
 ory, Black women’s lived experiences have often been invisible and erased.
  Therefore, it is important to combat the erasure of Black women and move 
 toward a correction and claiming of their space within the digitized recor
 d. This presentation will discuss a study that employs latent dirichlet al
 location (LDA) algorithms and comparative text mining to search 800,000 pe
 riodicals in JSTOR (Journal Storage) and HathiTrust from 1746 to 2014 to i
 dentify the types of conversations that emerge about Black women's shared 
 experience over time and the resulting knowledge that developed. This pres
 entation will also discuss what attracted Mendenhall to HPC, what she sees
  as the strengths of HPC and her plans for future research which involves 
 developing a data base with a cohort of 100,000 Black women citizen scient
 ists who will help to conduct and analyze longitudinal research based on t
 heir lived experiences.
URL:https://sc18.supercomputing.org/presentation/?id=pec348&sess=sess160
END:VEVENT
END:VCALENDAR

