BEGIN:VCALENDAR
VERSION:2.0
PRODID:Linklings LLC
BEGIN:VTIMEZONE
TZID:America/Chicago
X-LIC-LOCATION:America/Chicago
BEGIN:DAYLIGHT
TZOFFSETFROM:-0600
TZOFFSETTO:-0500
TZNAME:CDT
DTSTART:19700308T020000
RRULE:FREQ=YEARLY;BYMONTH=3;BYDAY=2SU
END:DAYLIGHT
BEGIN:STANDARD
TZOFFSETFROM:-0500
TZOFFSETTO:-0600
TZNAME:CST
DTSTART:19701101T020000
RRULE:FREQ=YEARLY;BYMONTH=11;BYDAY=1SU
END:STANDARD
END:VTIMEZONE
BEGIN:VEVENT
DTSTAMP:20181221T160727Z
LOCATION:D172
DTSTART;TZID=America/Chicago:20181111T161000
DTEND;TZID=America/Chicago:20181111T162000
UID:submissions.supercomputing.org_SC18_sess157_ws_hpcsysp111@linklings.co
 m
SUMMARY:Rapid Deployment of Bare-Metal and In-Container HPC Clusters Using
  OpenHPC playbooks
DESCRIPTION:Workshop\nHPC Center Planning and Operations, State of the Pra
 ctice, System Administration, Workshop Reg Pass\n\nRapid Deployment of Bar
 e-Metal and In-Container HPC Clusters Using OpenHPC playbooks\n\nHiggins, 
 Al-Jody, Holmes\n\nIn this paper, we present a toolbox of reusable Ansible
  roles and playbooks in order to configure a cluster software environment 
 described by the freely available OpenHPC recipes. They can be compos
 ed in order to deploy a robust and reliable cluster environment, instilled
  with the best practice offered by the OpenHPC packaging, and the repeatab
 ility and integrity guarantees of the configuration managed approach.&nbsp
 ;With container virtualization setting a new trend in scientific software 
 management, we focus this effort on supporting the deployment of such envi
 ronments on both bare-metal and container-based targets.
URL:https://sc18.supercomputing.org/presentation/?id=ws_hpcsysp111&sess=se
 ss157
END:VEVENT
END:VCALENDAR

