BEGIN:VCALENDAR
VERSION:2.0
PRODID:Linklings LLC
BEGIN:VTIMEZONE
TZID:America/Chicago
X-LIC-LOCATION:America/Chicago
BEGIN:DAYLIGHT
TZOFFSETFROM:-0600
TZOFFSETTO:-0500
TZNAME:CDT
DTSTART:19700308T020000
RRULE:FREQ=YEARLY;BYMONTH=3;BYDAY=2SU
END:DAYLIGHT
BEGIN:STANDARD
TZOFFSETFROM:-0500
TZOFFSETTO:-0600
TZNAME:CST
DTSTART:19701101T020000
RRULE:FREQ=YEARLY;BYMONTH=11;BYDAY=1SU
END:STANDARD
END:VTIMEZONE
BEGIN:VEVENT
DTSTAMP:20181221T160727Z
LOCATION:D172
DTSTART;TZID=America/Chicago:20181111T163000
DTEND;TZID=America/Chicago:20181111T164000
UID:submissions.supercomputing.org_SC18_sess157_ws_hpcsysp107@linklings.co
 m
SUMMARY:Stateless Provisioning: Modern Practice in HPC
DESCRIPTION:Workshop\nHPC Center Planning and Operations, State of the Pra
 ctice, System Administration, Workshop Reg Pass\n\nStateless Provisioning:
  Modern Practice in HPC\n\nBlaas, Roberts\n\nWe outline a model for creati
 ng a continuous integration and continuous delivery work flow targeted at 
 provisioning CPIO based initramfs images that are used to run computationa
 l work nodes in a bare metal cluster running RHEL or CentOS.
URL:https://sc18.supercomputing.org/presentation/?id=ws_hpcsysp107&sess=se
 ss157
END:VEVENT
END:VCALENDAR

