BEGIN:VCALENDAR
VERSION:2.0
PRODID:Linklings LLC
BEGIN:VTIMEZONE
TZID:America/Chicago
X-LIC-LOCATION:America/Chicago
BEGIN:DAYLIGHT
TZOFFSETFROM:-0600
TZOFFSETTO:-0500
TZNAME:CDT
DTSTART:19700308T020000
RRULE:FREQ=YEARLY;BYMONTH=3;BYDAY=2SU
END:DAYLIGHT
BEGIN:STANDARD
TZOFFSETFROM:-0500
TZOFFSETTO:-0600
TZNAME:CST
DTSTART:19701101T020000
RRULE:FREQ=YEARLY;BYMONTH=11;BYDAY=1SU
END:STANDARD
END:VTIMEZONE
BEGIN:VEVENT
DTSTAMP:20181221T160727Z
LOCATION:D172
DTSTART;TZID=America/Chicago:20181111T162000
DTEND;TZID=America/Chicago:20181111T163000
UID:submissions.supercomputing.org_SC18_sess157_ws_hpcsysp105@linklings.co
 m
SUMMARY:xCAT and Masterless Puppet: Aiming for Ideal Configuration Managem
 ent
DESCRIPTION:Workshop\nHPC Center Planning and Operations, State of the Pra
 ctice, System Administration, Workshop Reg Pass\n\nxCAT and Masterless Pup
 pet: Aiming for Ideal Configuration Management\n\nSt. John\n\nConfiguratio
 n management is a major factor in the design of an HPC system. This paper 
 provides an evaluation of the new architecture of the HPC systems operated
  by Purdue University, focusing on the configuration management system.
URL:https://sc18.supercomputing.org/presentation/?id=ws_hpcsysp105&sess=se
 ss157
END:VEVENT
END:VCALENDAR

