BEGIN:VCALENDAR
VERSION:2.0
PRODID:Linklings LLC
BEGIN:VTIMEZONE
TZID:America/Chicago
X-LIC-LOCATION:America/Chicago
BEGIN:DAYLIGHT
TZOFFSETFROM:-0600
TZOFFSETTO:-0500
TZNAME:CDT
DTSTART:19700308T020000
RRULE:FREQ=YEARLY;BYMONTH=3;BYDAY=2SU
END:DAYLIGHT
BEGIN:STANDARD
TZOFFSETFROM:-0500
TZOFFSETTO:-0600
TZNAME:CST
DTSTART:19701101T020000
RRULE:FREQ=YEARLY;BYMONTH=11;BYDAY=1SU
END:STANDARD
END:VTIMEZONE
BEGIN:VEVENT
DTSTAMP:20181221T160726Z
LOCATION:D172
DTSTART;TZID=America/Chicago:20181111T114000
DTEND;TZID=America/Chicago:20181111T122000
UID:submissions.supercomputing.org_SC18_sess148_pec221@linklings.com
SUMMARY:ColdFront: An Open Source HPC Resource Allocation System
DESCRIPTION:Workshop\nCollaborative Environments, Reproducibility, System 
 Administration, System Software, Tools, Workshop Reg Pass, HPC\n\nColdFron
 t: An Open Source HPC Resource Allocation System\n\nZia\n\nColdFront is an
  open source resource allocation system designed to provide a central port
 al for administering HPC resources and collecting return on investment (RO
 I) metrics.  ColdFront was created to help HPC centers manage access to ce
 nter resources across large groups of users and provide a rich set of data
  for comprehensive reporting of ROI metrics such as user publications and 
 external funding.  ColdFront is written in Python and released under the G
 PLv3 license.  This presentation will include an overview of ColdFront and
  include a live demo of its installation and use.
URL:https://sc18.supercomputing.org/presentation/?id=pec221&sess=sess148
END:VEVENT
END:VCALENDAR

