BEGIN:VCALENDAR
VERSION:2.0
PRODID:Linklings LLC
BEGIN:VTIMEZONE
TZID:America/Chicago
X-LIC-LOCATION:America/Chicago
BEGIN:DAYLIGHT
TZOFFSETFROM:-0600
TZOFFSETTO:-0500
TZNAME:CDT
DTSTART:19700308T020000
RRULE:FREQ=YEARLY;BYMONTH=3;BYDAY=2SU
END:DAYLIGHT
BEGIN:STANDARD
TZOFFSETFROM:-0500
TZOFFSETTO:-0600
TZNAME:CST
DTSTART:19701101T020000
RRULE:FREQ=YEARLY;BYMONTH=11;BYDAY=1SU
END:STANDARD
END:VTIMEZONE
BEGIN:VEVENT
DTSTAMP:20181221T160731Z
LOCATION:D168
DTSTART;TZID=America/Chicago:20181116T083100
DTEND;TZID=America/Chicago:20181116T091000
UID:submissions.supercomputing.org_SC18_sess144_pec175@linklings.com
SUMMARY:An Application Perspective on Programming Models for the Future
DESCRIPTION:Workshop\nParallel Programming Languages, Libraries, and Model
 s, Productivity, Workshop Reg Pass\n\nAn Application Perspective on Progra
 mming Models for the Future\n\nDubey
URL:https://sc18.supercomputing.org/presentation/?id=pec175&sess=sess144
END:VEVENT
END:VCALENDAR

