BEGIN:VCALENDAR
VERSION:2.0
PRODID:Linklings LLC
BEGIN:VTIMEZONE
TZID:America/Chicago
X-LIC-LOCATION:America/Chicago
BEGIN:DAYLIGHT
TZOFFSETFROM:-0600
TZOFFSETTO:-0500
TZNAME:CDT
DTSTART:19700308T020000
RRULE:FREQ=YEARLY;BYMONTH=3;BYDAY=2SU
END:DAYLIGHT
BEGIN:STANDARD
TZOFFSETFROM:-0500
TZOFFSETTO:-0600
TZNAME:CST
DTSTART:19701101T020000
RRULE:FREQ=YEARLY;BYMONTH=11;BYDAY=1SU
END:STANDARD
END:VTIMEZONE
BEGIN:VEVENT
DTSTAMP:20181221T160728Z
LOCATION:D221
DTSTART;TZID=America/Chicago:20181112T165000
DTEND;TZID=America/Chicago:20181112T172500
UID:submissions.supercomputing.org_SC18_sess141_pec397@linklings.com
SUMMARY:Panel Discussion – Software for Energy Efficiency (PowerStack, Pow
 erAPI, READEX, GEOPM)
DESCRIPTION:Workshop\nHPC Center Planning and Operations, Power, Workshop 
 Reg Pass\n\nPanel Discussion – Software for Energy Efficiency (PowerStack,
  PowerAPI, READEX, GEOPM)\n\n
URL:https://sc18.supercomputing.org/presentation/?id=pec397&sess=sess141
END:VEVENT
END:VCALENDAR

