BEGIN:VCALENDAR
VERSION:2.0
PRODID:Linklings LLC
BEGIN:VTIMEZONE
TZID:America/Chicago
X-LIC-LOCATION:America/Chicago
BEGIN:DAYLIGHT
TZOFFSETFROM:-0600
TZOFFSETTO:-0500
TZNAME:CDT
DTSTART:19700308T020000
RRULE:FREQ=YEARLY;BYMONTH=3;BYDAY=2SU
END:DAYLIGHT
BEGIN:STANDARD
TZOFFSETFROM:-0500
TZOFFSETTO:-0600
TZNAME:CST
DTSTART:19701101T020000
RRULE:FREQ=YEARLY;BYMONTH=11;BYDAY=1SU
END:STANDARD
END:VTIMEZONE
BEGIN:VEVENT
DTSTAMP:20181221T160910Z
LOCATION:D222
DTSTART;TZID=America/Chicago:20181111T103000
DTEND;TZID=America/Chicago:20181111T173000
UID:submissions.supercomputing.org_SC18_sess117@linklings.com
SUMMARY:2nd ATIP Workshop on International Next-Generation Computing Progr
 ams and Workforce Development
DESCRIPTION:Workshop\nGovernment Strategies, Programs, and Funding, HPC Ce
 nter Planning and Operations, Post-K computer, Professional Development, W
 orkshop Reg Pass\n\nStudent Cluster Competition Team Panel Presentation\n\
 nCheoh\n\n---------------------\nStudent Cluster Competition Team Panel Pr
 esentation\n\nRajan\n\n---------------------\nPanel 2: Arabia's Leap into 
 the Cyber Era\n\nKeyes\n\n---------------------\nStudent Cluster Competiti
 on Team Panel Presentation\n\nYu\n\n---------------------\nPanel 3:  Japan
 's HPC Program for System Development and Deployment toward Exascale\n\nBo
 ku\n\nIn this talk, activities in Japan toward national flagship machine d
 evelopment and other supporting Tier-2 system deployment are introduced. C
 urrently, Post-K Computer is under development toward its full operation s
 tarting on 2021 (Flagship2020 Project) and many of key issues and performa
 nce values...\n\n---------------------\nPanel 3: Challenge and Chance for 
 Supercomputing Center in China\n\nLu\n\nNowadays, advanced computing and v
 isualizing tools are facilitating scientists and engineers to perform virt
 ual experiments and analyze large-scale datasets. Computing-driven and Big
 Data-driven scientific discovery has become a necessary approach in global
  environment change, life science, nano-mate...\n\n---------------------\n
 Panel 3: Asian Region Q&A / Discussion Moderated by Dr. David Kahaner\n\n\
 n\n---------------------\nPanel 2: US, Saudi Arabia, India and Russia Q&A 
 / Discussion Moderated by Prof. Taisuke Boku\n\n\n\n---------------------\
 nStudent Cluster Competition Team Panel Presentation\n\nBrown\n\n---------
 ------------\nPanel 3: The Path from HPC to AI in Taiwan's NCHC\n\nShieh\n
 \nArtificial Intelligence (AI) has been regarded as one of the competitive
  edges of economy. The acceleration of compute cycles, which is often rega
 rded as high-performance computing, is traditionally considered as the str
 ength of scientific advance in research. It is now turned into the powerho
 use of...\n\n---------------------\nPanel 3: HPC Status in Thailand\n\nUth
 ayopas\n\n---------------------\nStudent Cluster Competition Team Panel Pr
 esentation\n\nHakim, Khadafi\n\n---------------------\nStudent Cluster Com
 petition Team Panel Presentation\n\nBooth\n\n---------------------\nStuden
 t Cluster Competition Team Panel Presentation\n\nCheng\n\n----------------
 -----\nStudent Cluster Competition Team Panel Presentation\n\nHao\n\n-----
 ----------------\nIntroduction to Student Cluster Competitions\n\nOlds\n\n
 ---------------------\nPanel 1: Service-Oriented HPC and Data Infrastructu
 res for Science in Germany\n\nPleiter\n\nAddressing grand challenges in sc
 iences requires HPC and data infrastructures that facilitate collaboration
  and data sharing in combination with the capability to store vast amounts
  of data as well as to access and process them with high performance. In t
 his talk we report on efforts of several Euro...\n\n---------------------\
 nPanel 2: HPC in India\n\nWandhekar\n\nThe talk will summarize various HPC
  projects in the country including the National Supercomputing Mission (NS
 M). The Mission focus is on Development and creation of HPC Facilities and
  Infrastructure in the country, HPC Applications Development, HPC proficie
 nt manpower development and advanced R&D fo...\n\n---------------------\nS
 tudent Cluster Competition Team Panel Presentation\n\nDonato\n\n----------
 -----------\nWelcome and Introduction\n\nKahaner, Boku\n\n----------------
 -----\nStudent Cluster Competition Team Panel Presentation\n\nBalmer\n\n--
 -------------------\nPanel 4: Asia Supercomputing Community: Profound Insp
 iration through Strong Competition\n\nBojaxhi\n\n---------------------\nSt
 udent Cluster Competition Team Panel Presentation\n\nSobecki\n\n----------
 -----------\nStudent Cluster Competition Team Panel Presentation\n\nLau\n\
 n---------------------\nStudent Cluster Competition Team Panel Presentatio
 n\n\nDengler, Sauerwein\n\n---------------------\nPanel 4: Student Competi
 tion and Workforce Development Q&A / Discussion Moderated by Dan Olds\n\n\
 n\n---------------------\nPanel 4: Student Spotlight Presentation\n\nBazi&
 #324;ska\n\n---------------------\nNetworking / Independent Discussion\n\n
 \n\nAfter all questions have been answered, the remaining time can be used
  for networking and one-on-one discussion.\n\n---------------------\nWorks
 hop Afternoon Break\n\n\n\n---------------------\nPanel 2: Russian HPC Tre
 nds: a View From a Local Vendor Trench\n\nMoskovsky\n\nIn Russia, high-per
 formance computing (HPC) is considered as a technological priority, as sta
 ted in many official documents and statements on national scientific, rese
 arch, and development strategies. A vivid scientist and engineer community
  emerged, including all major areas of HPC-related research...\n\n--------
 -------------\nKeynote: The Post-K for General-Purpose, Energy-Efficient, 
 and Sustained Application Performance\n\nSato\n\n---------------------\nPa
 nel 1: Role of Federated Polish HPC Centers in Polish AI Initiatives and E
 uroHPC Program\n\nMichalewicz\n\n---------------------\nWorkshop Lunch (on
  your own)\n\n\n\n---------------------\nPanel 1: A Site-Local View of Cre
 ating a Pan-European Federated Research Infrastructure\n\nMcMurtrie\n\n---
 ------------------\nPanel 2:  United States National Science Foundation (N
 SF) Office of Advanced Cyberinfrastructure Programs and Workforce Developm
 ent\n\nPrasad\n\n---------------------\nIntroduction - 2nd ATIP Workshop o
 n International Next-Generation Computing Programs and Workforce Developme
 nt\n\nKahaner\n\nAfter ATIP’s very successful Workshop at SC17 on Internat
 ional Exascale and Next-Generation Computing Programs, ATIP proposes a ful
 l-day sequel workshop at SC18 presenting and generating discussions on Int
 ernational Next-Generation Computing Programs and Workforce Development. S
 C18 will be the 30th ...\n\n---------------------\nStudent Cluster Competi
 tion Team Panel Presentation\n\nHan\n\n---------------------\nStudent Clus
 ter Competition Team Panel Presentation\n\nKefer\n\n---------------------\
 nPanel 1: European Region Q&A / Discussion Moderated by Prof. Taisuke Boku
 \n\n\n
END:VEVENT
END:VCALENDAR

