BEGIN:VCALENDAR
VERSION:2.0
PRODID:Linklings LLC
BEGIN:VTIMEZONE
TZID:America/Chicago
X-LIC-LOCATION:America/Chicago
BEGIN:DAYLIGHT
TZOFFSETFROM:-0600
TZOFFSETTO:-0500
TZNAME:CDT
DTSTART:19700308T020000
RRULE:FREQ=YEARLY;BYMONTH=3;BYDAY=2SU
END:DAYLIGHT
BEGIN:STANDARD
TZOFFSETFROM:-0500
TZOFFSETTO:-0600
TZNAME:CST
DTSTART:19701101T020000
RRULE:FREQ=YEARLY;BYMONTH=11;BYDAY=1SU
END:STANDARD
END:VTIMEZONE
BEGIN:VEVENT
DTSTAMP:20181221T160727Z
LOCATION:D222
DTSTART;TZID=America/Chicago:20181111T172500
DTEND;TZID=America/Chicago:20181111T173000
UID:submissions.supercomputing.org_SC18_sess117_pec283@linklings.com
SUMMARY:Networking / Independent Discussion
DESCRIPTION:Workshop\nGovernment Strategies, Programs, and Funding, HPC Ce
 nter Planning and Operations, Post-K computer, Professional Development, W
 orkshop Reg Pass\n\nNetworking / Independent Discussion\n\n\n\nAfter all q
 uestions have been answered, the remaining time can be used for networking
  and one-on-one discussion.
URL:https://sc18.supercomputing.org/presentation/?id=pec283&sess=sess117
END:VEVENT
END:VCALENDAR

