BEGIN:VCALENDAR
VERSION:2.0
PRODID:Linklings LLC
BEGIN:VTIMEZONE
TZID:America/Chicago
X-LIC-LOCATION:America/Chicago
BEGIN:DAYLIGHT
TZOFFSETFROM:-0600
TZOFFSETTO:-0500
TZNAME:CDT
DTSTART:19700308T020000
RRULE:FREQ=YEARLY;BYMONTH=3;BYDAY=2SU
END:DAYLIGHT
BEGIN:STANDARD
TZOFFSETFROM:-0500
TZOFFSETTO:-0600
TZNAME:CST
DTSTART:19701101T020000
RRULE:FREQ=YEARLY;BYMONTH=11;BYDAY=1SU
END:STANDARD
END:VTIMEZONE
BEGIN:VEVENT
DTSTAMP:20181221T160726Z
LOCATION:D222
DTSTART;TZID=America/Chicago:20181111T142000
DTEND;TZID=America/Chicago:20181111T143000
UID:submissions.supercomputing.org_SC18_sess117_pec230@linklings.com
SUMMARY:Panel 3: Challenge and Chance for Supercomputing Center in China
DESCRIPTION:Workshop\nGovernment Strategies, Programs, and Funding, HPC Ce
 nter Planning and Operations, Post-K computer, Professional Development, W
 orkshop Reg Pass\n\nPanel 3: Challenge and Chance for Supercomputing Cente
 r in China\n\nLu\n\nNowadays, advanced computing and visualizing tools are
  facilitating scientists and engineers to perform virtual experiments and 
 analyze large-scale datasets. Computing-driven and BigData-driven scientif
 ic discovery has become a necessary approach in global environment change,
  life science, nano-materials, high energy physics, and other fields. Furt
 hermore, the increased computing requirements from economic and social dev
 elopment also call for the birth of the exascale system. This talk will di
 scuss the challenge and chance for Supercomputing Center in China, and our
  efforts for the convergence of the HPC, BigData, and AI to embrace the ne
 w era.
URL:https://sc18.supercomputing.org/presentation/?id=pec230&sess=sess117
END:VEVENT
END:VCALENDAR

