BEGIN:VCALENDAR
VERSION:2.0
PRODID:Linklings LLC
BEGIN:VTIMEZONE
TZID:America/Chicago
X-LIC-LOCATION:America/Chicago
BEGIN:DAYLIGHT
TZOFFSETFROM:-0600
TZOFFSETTO:-0500
TZNAME:CDT
DTSTART:19700308T020000
RRULE:FREQ=YEARLY;BYMONTH=3;BYDAY=2SU
END:DAYLIGHT
BEGIN:STANDARD
TZOFFSETFROM:-0500
TZOFFSETTO:-0600
TZNAME:CST
DTSTART:19701101T020000
RRULE:FREQ=YEARLY;BYMONTH=11;BYDAY=1SU
END:STANDARD
END:VTIMEZONE
BEGIN:VEVENT
DTSTAMP:20181221T160726Z
LOCATION:D222
DTSTART;TZID=America/Chicago:20181111T120000
DTEND;TZID=America/Chicago:20181111T121000
UID:submissions.supercomputing.org_SC18_sess117_pec226@linklings.com
SUMMARY:Panel 2: Russian HPC Trends: a View From a Local Vendor Trench
DESCRIPTION:Workshop\nGovernment Strategies, Programs, and Funding, HPC Ce
 nter Planning and Operations, Post-K computer, Professional Development, W
 orkshop Reg Pass\n\nPanel 2: Russian HPC Trends: a View From a Local Vendo
 r Trench\n\nMoskovsky\n\nIn Russia, high-performance computing (HPC) is co
 nsidered as a technological priority, as stated in many official documents
  and statements on national scientific, research, and development strategi
 es. A vivid scientist and engineer community emerged, including all major 
 areas of HPC-related research, numerical simulation scientists, and engine
 ering support from both domestic and international vendors. This talk is d
 edicated to the analysis of past and future trends in Russian HPC market b
 ased on data from both the worldwide Top500 and the Russian Top50 ratings.
URL:https://sc18.supercomputing.org/presentation/?id=pec226&sess=sess117
END:VEVENT
END:VCALENDAR

